Workbook

Sheet Budget Summary
A1: B U D G E T S U M M A R Y
A2: Economic and Workforce Development Department, City of Los Angeles
A3: Contractor:
A4: Contract No.: | I4: Contact Name:
A5: Program: | B5: LA RISE | F5: Amendment No.: | I5: Telephone No.:
A6: Funding Stream: | B6: General Fund | F6: Contract Period: | G6: 7/1/2023 - 6/30/2024 | I6: Fax No.:
A7: Contract Amount: | B7: 0 | I7: E-mail Address:
A10: Schedule of Costs
D11: CITY SHARE
A12: Cost Classification | E12: Breakdown | H12: Non-Federal | I12: Leveraged | J12: Total | K12: Total
D13: Total | E13: (General Fund) | G13: Program | H13: Matching | J13: Estimated | K13: Estimated
A14: No. | B14: Name | D14: City | E14: Admin | F14: Program | G14: Income | H14: Share | I14: Resources | J14: Costs | K14: Costs
A15: 1000 | B15: PERSONNEL COSTS | D15: ='Budget Detail'!E20 -> 0 | E15: ='Budget Detail'!F20 -> 0 | F15: ='Budget Detail'!G20 -> 0 | G15: ='Budget Detail'!H20 -> 0 | H15: ='Budget Detail'!I20 -> 0 | I15: ='Budget Detail'!J20 -> 0 | J15: ='Budget Detail'!K20 -> 0
A16: 2000 | B16: OTHER COSTS | D16: ='Budget Detail'!E42 -> 0 | E16: ='Budget Detail'!F42 -> 0 | F16: ='Budget Detail'!G42 -> 0 | G16: ='Budget Detail'!H42 -> 0 | H16: ='Budget Detail'!I42 -> 0 | I16: ='Budget Detail'!J42 -> 0 | J16: ='Budget Detail'!K42 -> 0
A17: 2100 | B17: PARTICIPANT-RELATED COSTS | D17: ='Budget Detail'!E48 -> 0 | E17: ='Budget Detail'!F48 -> 0 | F17: ='Budget Detail'!G48 -> 0 | G17: ='Budget Detail'!H48 -> 0 | H17: ='Budget Detail'!I48 -> 0 | I17: ='Budget Detail'!J48 -> 0 | J17: ='Budget Detail'!K48 -> 0
A18: 2200 | B18: SUBCONTRACTOR(S) COSTS | D18: ='Budget Detail'!E52 -> 0 | E18: ='Budget Detail'!F52 -> 0 | F18: ='Budget Detail'!G52 -> 0 | G18: ='Budget Detail'!H52 -> 0 | H18: ='Budget Detail'!I52 -> 0 | I18: ='Budget Detail'!J52 -> 0 | J18: ='Budget Detail'!K52 -> 0
A19: 3000 | B19: FURNITURE & EQUIPMENT | D19: ='Budget Detail'!E56 -> 0 | E19: ='Budget Detail'!F56 -> 0 | F19: ='Budget Detail'!G56 -> 0 | G19: ='Budget Detail'!H56 -> 0 | H19: ='Budget Detail'!I56 -> 0 | I19: ='Budget Detail'!J56 -> 0 | J19: ='Budget Detail'!K56 -> 0
A20: 4000 | B20: INDIRECT COSTS | D20: ='Budget Detail'!E60 -> 0 | E20: ='Budget Detail'!F60 -> 0 | F20: ='Budget Detail'!G60 -> 0 | G20: ='Budget Detail'!H60 -> 0 | H20: ='Budget Detail'!I60 -> 0 | I20: ='Budget Detail'!J60 -> 0 | J20: ='Budget Detail'!K60 -> 0
A21: 5000 | B21: CAPITAL COSTS | D21: ='Budget Detail'!E64 -> 0 | E21: ='Budget Detail'!F64 -> 0 | F21: ='Budget Detail'!G64 -> 0 | G21: ='Budget Detail'!H64 -> 0 | H21: ='Budget Detail'!I64 -> 0 | I21: ='Budget Detail'!J64 -> 0 | J21: ='Budget Detail'!K64 -> 0
B22: T O T A L C O S T S | D22: =SUM(D15:D21) -> 0 | E22: =SUM(E15:E21) -> 0 | F22: =SUM(F15:F21) -> 0 | G22: =SUM(G15:G21) -> 0 | H22: =SUM(H15:H21) -> 0 | I22: =SUM(I15:I21) -> 0 | J22: =SUM(J15:K21) -> 0
A24: Spending Plan
C25: Month 1 | D25: Month 2 | E25: Month 3 | F25: Month 4 | G25: Month 5 | H25: Month 6 | I25: Month 7 | J25: Month 8 | K25: Month 9
A27: PLAN FOR THE MONTH | C27: ='Spending Plan Wksheet'!D20 -> 0 | D27: ='Spending Plan Wksheet'!E20 -> 0 | E27: ='Spending Plan Wksheet'!F20 -> 0 | F27: ='Spending Plan Wksheet'!G20 -> 0 | G27: ='Spending Plan Wksheet'!H20 -> 0 | H27: ='Spending Plan Wksheet'!I20 -> 0 | I27: ='Spending Plan Wksheet'!J20 -> 0 | J27: ='Spending Plan Wksheet'!K20 -> 0 | K27: ='Spending Plan Wksheet'!L20 -> 0
A28: TOTAL - CUMULATIVE | C28: =C27 -> 0 | D28: =C28+D27 -> 0 | E28: =D28+E27 -> 0 | F28: =E28+F27 -> 0 | G28: =F28+G27 -> 0 | H28: =G28+H27 -> 0 | I28: =H28+I27 -> 0 | J28: =I28+J27 -> 0 | K28: =J28+K27 -> 0
C29: Month 10 | D29: Month 11 | E29: Month 12 | K29: TOTAL
A31: PLAN FOR THE MONTH | C31: ='Spending Plan Wksheet'!D32 -> 0 | D31: ='Spending Plan Wksheet'!E32 -> 0 | E31: ='Spending Plan Wksheet'!F32 -> 0 | K31: =SUM(C27:K27)+SUM(C31:J31) -> 0
A32: TOTAL - CUMULATIVE | C32: =K28+C31 -> 0 | D32: =C32+D31 -> 0 | E32: =D32+E31 -> 0
A33: BUDGET - STANDARD, Budget Summary (Rev. Jun 2023), City of Los Angeles, Economic and Workforce Development Department

Sheet Budget Detail
A1: B U D G E T D E T A I L
A2: Economic and Workforce Development Department, City of Los Angeles
A4: Contractor: | D4: ='Budget Summary'!$B$3 -> 0
A5: Contract No.: | D5: ='Budget Summary'!$B$4 -> 0 | I5: Amendment No.: | J5: ='Budget Summary'!$G$5 -> 0
A6: Program: | D6: ='Budget Summary'!$B$5 -> LA RISE | I6: Contract Period: | J6: ='Budget Summary'!$G$6 -> 7/1/2023 - 6/30/2024
A7: Funding Stream (WIOA Only): | D7: ='Budget Summary'!$B$6 -> General Fund
A8: Contract Amount: | D8: ='Budget Summary'!B7 -> 0
E10: ESTIMATED COSTS - BY LINE ITEM
E11: City of LA Share | K11: Grand
F12: Breakdown (General Fund) | I12: Non-Federal | K12: Total
H13: Program | I13: Matching | J13: Leveraged | K13: Estimated
C14: Cost Category / Line Item | E14: Total | F14: Admin | G14: Program | H14: Income | I14: Share | J14: Resource | K14: Costs
E15: (A) | F15: (B ) | G15: (C) | H15: (D) | I15: (E) | J15: (F) | K15: (G)
E16: (B + C) | K16: (A + D + E + F)
A17: #1000 - PERSONNEL COSTS:
A18: SALARIES | E18: =F18+G18 -> 0 | F18: ='Sched of Personnel'!H53 -> 0 | G18: ='Sched of Personnel'!I53 -> 0 | J18: ='Sched of Personnel'!M53 -> 0 | K18: =E18+H18+I18+J18 -> 0
A19: FRINGE BENEFITS | E19: =F19+G19 -> 0 | F19: ='Sched of Personnel'!H62 -> 0 | G19: ='Sched of Personnel'!I62 -> 0 | J19: ='Sched of Personnel'!M62 -> 0 | K19: =E19+H19+I19+J19 -> 0
A20: SUBTOTAL: #1000 - PERSONNEL COSTS | E20: =SUM(E18:E19) -> 0 | F20: =SUM(F18:F19) -> 0 | G20: =SUM(G18:G19) -> 0 | H20: =SUM(H18:H19) -> 0 | I20: =SUM(I18:I19) -> 0 | J20: =SUM(J18:J19) -> 0 | K20: =SUM(K18:K19) -> 0
A21: #2000 - OTHER COSTS:
E22: =F22+G22 -> 0 | K22: =E22+H22+I22+J22 -> 0
E23: =F23+G23 -> 0 | K23: =E23+H23+I23+J23 -> 0
E24: =F24+G24 -> 0 | K24: =E24+H24+I24+J24 -> 0
E25: =F25+G25 -> 0 | K25: =E25+H25+I25+J25 -> 0
E26: =F26+G26 -> 0 | K26: =E26+H26+I26+J26 -> 0
E27: =F27+G27 -> 0 | K27: =E27+H27+I27+J27 -> 0
E28: =F28+G28 -> 0 | K28: =E28+H28+I28+J28 -> 0
E29: =F29+G29 -> 0 | K29: =E29+H29+I29+J29 -> 0
E30: =F30+G30 -> 0 | K30: =E30+H30+I30+J30 -> 0
E31: =F31+G31 -> 0 | K31: =E31+H31+I31+J31 -> 0
E32: =F32+G32 -> 0 | K32: =E32+H32+I32+J32 -> 0
E33: =F33+G33 -> 0 | K33: =E33+H33+I33+J33 -> 0
... E41: =F41+G41 -> 0 | K41: =E41+H41+I41+J41 -> 0
A42: SUBTOTAL: #2000 - OTHER COSTS | E42: =SUM(E22:E41) -> 0 | F42: =SUM(F22:F41) -> 0 | G42: =SUM(G22:G41) -> 0 | H42: =SUM(H22:H41) -> 0 | I42: =SUM(I22:I41) -> 0 | J42: =SUM(J22:J41) -> 0 | K42: =SUM(K22:K41) -> 0
A43: #2100 - PARTICIPANT-RELATED COSTS:
E44: =F44+G44 -> 0 | K44: =E44+H44+I44+J44 -> 0
E45: =F45+G45 -> 0 | K45: =E45+H45+I45+J45 -> 0
E46: =F46+G46 -> 0 | K46: =E46+H46+I46+J46 -> 0
E47: =F47+G47 -> 0 | K47: =E47+H47+I47+J47 -> 0
A48: SUBTOTAL: #2100 - PARTICIPANT-RELATED COSTS | E48: =SUM(E44:E47) -> 0 | F48: =SUM(F44:F47) -> 0 | G48: =SUM(G44:G47) -> 0 | H48: =SUM(H44:H47) -> 0 | I48: =SUM(I44:I47) -> 0 | J48: =SUM(J44:J47) -> 0 | K48: =SUM(K44:K47) -> 0
A49: #2200 - SUBCONTRACTOR COSTS:
...

Sheet Sched of Personnel
A1: SCHEDULE OF PERSONNEL COSTS
A2: Economic and Workforce Development Department, City of Los Angeles
A4: Contractor: | C4: ='Budget Summary'!$B$3 -> 0
A5: Contract No.: | C5: ='Budget Summary'!$B$4 -> 0 | K5: Amendment No.: | L5: ='Budget Summary'!$G$5 -> 0
A6: Program: | C6: ='Budget Summary'!$B$5 -> LA RISE | K6: Contract Period: | L6: ='Budget Summary'!$G$6 -> 7/1/2023 - 6/30/2024
A7: Funding Stream (WIOA Only): | C7: ='Budget Summary'!$B$6 -> General Fund
A8: Contract Amount: | C8: ='Budget Summary'!B7 -> 0
G11: ESTIMATED COSTS - BY LINE ITEM
G12: City of LA Share | N12: Grand
H13: Breakdown (General Fund) | L13: Non-Federal | N13: Total
A14: Job Title | C14: Employee Name | D14: Month | E14: % of | F14: # of | G14: Total | J14: Total | K14: Program | L14: Matching | M14: Leveraged | N14: Estimated
A15: (One Line per Employee) | D15: Salary | E15: Time | F15: Months | G15: Salary | H15: Admin | I15: Program | J15: Prgm + Admin | K15: Income | L15: Share | M15: Resource | N15: Costs
B16: (A) | C16: (B) | D16: (C ) | E16: (D) | F16: (E) | G16: (F) | H16: (G) | I16: (H) | J16: (I) | K16: (J) | L16: (K) | M16: (L) | N16: (M)
G17: (C x D x E) | J17: (G + H) | N17: (I + J + K + L)
A18: A. SALARIES:
G19: =ROUND(D19*E19*F19,2) -> 0 | J19: =ROUND(H19+I19,2) -> 0 | N19: =J19+K19+L19+M19 -> 0
G20: =ROUND(D20*E20*F20,2) -> 0 | J20: =ROUND(H20+I20,2) -> 0 | N20: =J20+K20+L20+M20 -> 0
G21: =ROUND(D21*E21*F21,2) -> 0 | J21: =ROUND(H21+I21,2) -> 0 | N21: =J21+K21+L21+M21 -> 0
G22: =ROUND(D22*E22*F22,2) -> 0 | J22: =ROUND(H22+I22,2) -> 0 | N22: =J22+K22+L22+M22 -> 0
G23: =ROUND(D23*E23*F23,2) -> 0 | J23: =ROUND(H23+I23,2) -> 0 | N23: =J23+K23+L23+M23 -> 0
G24: =ROUND(D24*E24*F24,2) -> 0 | J24: =ROUND(H24+I24,2) -> 0 | N24: =J24+K24+L24+M24 -> 0
G25: =ROUND(D25*E25*F25,2) -> 0 | J25: =ROUND(H25+I25,2) -> 0 | N25: =J25+K25+L25+M25 -> 0
G26: =ROUND(D26*E26*F26,2) -> 0 | J26: =ROUND(H26+I26,2) -> 0 | N26: =J26+K26+L26+M26 -> 0
G27: =ROUND(D27*E27*F27,2) -> 0 | J27: =ROUND(H27+I27,2) -> 0 | N27: =J27+K27+L27+M27 -> 0
G28: =ROUND(D28*E28*F28,2) -> 0 | J28: =ROUND(H28+I28,2) -> 0 | N28: =J28+K28+L28+M28 -> 0
G29: =ROUND(D29*E29*F29,2) -> 0 | J29: =ROUND(H29+I29,2) -> 0 | N29: =J29+K29+L29+M29 -> 0
G30: =ROUND(D30*E30*F30,2) -> 0 | J30: =ROUND(H30+I30,2) -> 0 | N30: =J30+K30+L30+M30 -> 0
... G52: =ROUND(D52*E52*F52,2) -> 0 | J52: =ROUND(H52+I52,2) -> 0 | N52: =J52+K52+L52+M52 -> 0
B53: SUBTOTAL: SALARIES | G53: =SUM(G19:G52) -> 0 | H53: =SUM(H19:H52) -> 0 | I53: =SUM(I19:I52) -> 0 | J53: =H53+I53 -> 0 | K53: =SUM(K19:K52) -> 0 | L53: =SUM(L19:L52) -> 0 | M53: =SUM(M19:M52) -> 0 | N53: =SUM(N19:N52) -> 0
A54: B. FRINGE BENEFITS: | F54: % to Total Salaries
A55: FICA | F55: =G55/G53 -> #DIV/0! | G55: =H55+I55 -> 0 | N55: =G55+K55+L55+M55 -> 0
A56: HEALTH | F56: =G56/G53 -> #DIV/0! | G56: =H56+I56 -> 0 | N56: =G56+K56+L56+M56 -> 0
A57: SUI | F57: =G57/G53 -> #DIV/0! | G57: =H57+I57 -> 0 | N57: =G57+K57+L57+M57 -> 0
A58: WORKERS' COMPENSATION | F58: =G58/G53 -> #DIV/0! | G58: =H58+I58 -> 0 | N58: =G58+K58+L58+M58 -> 0
A59: RETIREMENT | F59: =G59/G53 -> #DIV/0! | G59: =H59+I59 -> 0 | N59: =G59+K59+L59+M59 -> 0
A60: OTHERS | F60: =G60/G53 -> #DIV/0! | G60: =H60+I60 -> 0 | N60: =G60+K60+L60+M60 -> 0
F61: =G61/G53 -> #DIV/0! | G61: =H61+I61 -> 0 | N61: =G61+K61+L61+M61 -> 0
B62: SUBTOTAL: FRINGE BENEFITS | F62: =G62/G53 -> #DIV/0! | G62: =SUM(G55:G61) -> 0 | H62: =SUM(H55:H61) -> 0 | I62: =SUM(I55:I61) -> 0 | K62: =SUM(K55:K61) -> 0 | L62: =SUM(L55:L61) -> 0 | M62: =SUM(M55:M61) -> 0 | N62: =SUM(N55:N61) -> 0
B63: TOTAL PERSONNEL COSTS | G63: =G53+G62 -> 0 | H63: =H53+H62 -> 0 | I63: =I53+I62 -> 0 | K63: =K53+K62 -> 0 | L63: =L53+L62 -> 0 | M63: =M53+M62 -> 0 | N63: =N53+N62 -> 0
A64: ='Budget Summary'!$A$33 -> BUDGET - STANDARD, Budget Summary (Rev. Jun 2023), City of Los Angeles, Economic and Workforce Development Department

Sheet Spending Plan Wksheet
A1: SPENDING PLAN WORKSHEET
A2: Economic and Workforce Development Department, City of Los Angeles
A4: Contractor: | C4: ='Budget Summary'!$B$3 -> 0
A5: Contract No.: | C5: ='Budget Summary'!$B$4 -> 0 | J5: Amendment No.: | K5: ='Budget Summary'!$G$5 -> 0
A6: Program: | C6: ='Budget Summary'!$B$5 -> LA RISE | J6: Contract Period: | K6: ='Budget Summary'!$G$6 -> 7/1/2023 - 6/30/2024
A7: Funding Stream (WIOA Only): | C7: ='Budget Summary'!$B$6 -> General Fund
A8: Contract Amount: | C8: ='Budget Summary'!B7 -> 0
A11: Cost Classification | D11: Month 1 | E11: Month 2 | F11: Month 3 | G11: Month 4 | H11: Month 5 | I11: Month 6 | J11: Month 7 | K11: Month 8 | L11: Month 9
A12: No. | B12: Name
A13: 1000 | B13: PERSONNEL COSTS
A14: 2000 | B14: OTHER COSTS
A15: 2100 | B15: PARTICIPANT-RELATED COSTS
A16: 2200 | B16: SUBCONTRACTOR(S) COSTS
A17: 3000 | B17: FURNITURE & EQUIPMENT COSTS
A18: 4000 | B18: INDIRECT COSTS
A19: 5000 | B19: CAPITAL COSTS
A20: TOTAL PLAN FOR THE MONTH | D20: =SUM(D13:D19) -> 0 | E20: =SUM(E13:E19) -> 0 | F20: =SUM(F13:F19) -> 0 | G20: =SUM(G13:G19) -> 0 | H20: =SUM(H13:H19) -> 0 | I20: =SUM(I13:I19) -> 0 | J20: =SUM(J13:J19) -> 0 | K20: =SUM(K13:K19) -> 0 | L20: =SUM(L13:L19) -> 0
A21: TOTAL - CUMULATIVE | D21: =D20 -> 0 | E21: =D21+E20 -> 0 | F21: =E21+F20 -> 0 | G21: =F21+G20 -> 0 | H21: =G21+H20 -> 0 | I21: =H21+I20 -> 0 | J21: =I21+J20 -> 0 | K21: =J21+K20 -> 0 | L21: =K21+L20 -> 0
A23: Cost Classification | D23: Month 10 | E23: Month 11 | F23: Month 12 | L23: Total
A24: No. | B24: Name
A25: 1000 | B25: PERSONNEL COSTS | L25: =SUM(D13:L13)+SUM(D25:F25) -> 0
A26: 2000 | B26: OTHER COSTS | L26: =SUM(D14:L14)+SUM(D26:F26) -> 0
A27: 2100 | B27: PARTICIPANT-RELATED COSTS | L27: =SUM(D15:L15)+SUM(D27:F27) -> 0
A28: 2200 | B28: SUBCONTRACTOR(S) COSTS | L28: =SUM(D16:L16)+SUM(D28:F28) -> 0
A29: 3000 | B29: FURNITURE & EQUIPMENT COSTS | L29: =SUM(D17:L17)+SUM(D29:F29) -> 0
A30: 4000 | B30: INDIRECT COSTS | L30: =SUM(D18:L18)+SUM(D30:F30) -> 0
A31: 5000 | B31: CAPITAL COSTS | L31: =SUM(D19:L19)+SUM(D31:F31) -> 0
A32: TOTAL PLAN FOR THE MONTH | D32: =SUM(D25:D31) -> 0 | E32: =SUM(E25:E31) -> 0 | F32: =SUM(F25:F31) -> 0 | L32: =SUM(L25:L31) -> 0
A33: TOTAL - CUMULATIVE | D33: =L21+D32 -> 0 | E33: =D33+E32 -> 0 | F33: =E33+F32 -> 0
A34: ='Budget Summary'!$A$33 -> BUDGET - STANDARD, Budget Summary (Rev. Jun 2023), City of Los Angeles, Economic and Workforce Development Department

Sheet Narrative
A1: Instructions: Please provide information requested for each line item reflected within your proposed PY 23-24 General Fund program budget. The ordering of the narrative line entries should follow the same order used in your PY 22-23 budget. Please do not alter the worksheet formulas or column widths. Also, please do not enter any data into columns D,F,G or H, as to do so may overwrite the formulas applied to these columns. A complete narrative response will provide the requested information in columns A, B, C, E, and I for each PY 23-24 proposed budget line item. The narrative explanation provided in column "I" should include, but is not limited to: 1) stated purpose of line item: why is the expense needed to carryout the objectives of the program; 2) How was the proposed amount determined. It is not sufficient to state that proposed amount is based on prior year expenses. Instead, please provide a formula or explanation of the calculation method used. It may also be appropriate to provide unit references (example: need <x number> of computers for <stated purpose> at an estimated cost of <x dollars> per unit, based on initial price quotes; items will be used exclusively for General Fund program with the allocation between program and administrative cost determined by <cost allocation method>); 3) If proposed amount has changed significantly from PY 22-23 level, explain operational or program design change that has lead to the budgetary adjustment; 4) As applicable to each line item, explain the method of allocation used to distribute costs between administrative and program cost, or for shared cost, the allocation method used to determine the cost assignable to the General Fund program; 5) Reference any support documentation provided in support of a given line item; 6) State amount of unfunded portion of any scheduled line item.
A3: NARRATIVE WORKSHEET FOR PROPOSED BUDGET
A4: LA:RISE Contractor:
A5: Contact Name (include phone number and email address):
A7: A | B7: B | C7: C | D7: D | E7: E | F7: F | G7: G | H7: H | I7: I | J7: H
A8: COST CLASSIFICATION | B8: LINE ITEM | C8: 23-24 Budget | E8: Budget Mod Request | G8: VARIANCE between years ( = E - C) | H8: % of Change | I8: NARRATIVE EXPLANATION OF PROPOSED 23-24 FUNDING LEVEL
C9: Budgeted Amount | D9: Line Item as % of Total Budget | E9: Proposed Amount | F9: Line Item as % of Total Contract Award | J9: Budget Analyst Response
A10: #1000 Personnel Costs | B10: Salaries | D10: =C10/$C$37 -> #DIV/0! | F10: =E10/$E$37 -> #DIV/0! | G10: =E10-C10 -> 0 | H10: =G10/C10 -> #DIV/0!
A11: #1000 Personnel Costs | B11: Fringe Benefits | D11: =C11/$C$37 -> #DIV/0! | F11: =E11/$E$37 -> #DIV/0! | G11: =E11-C11 -> 0 | H11: =G11/C11 -> #DIV/0!
A12: #2000 - OTHER COSTS: | D12: =C12/$C$37 -> #DIV/0! | F12: =E12/$E$37 -> #DIV/0! | G12: =E12-C12 -> 0 | H12: =G12/C12 -> #DIV/0!
A13: #2000 - OTHER COSTS: | D13: =C13/$C$37 -> #DIV/0! | F13: =E13/$E$37 -> #DIV/0! | G13: =E13-C13 -> 0 | H13: =G13/C13 -> #DIV/0!
A14: #2000 - OTHER COSTS: | D14: =C14/$C$37 -> #DIV/0! | F14: =E14/$E$37 -> #DIV/0! | G14: =E14-C14 -> 0 | H14: =G14/C14 -> #DIV/0!
A15: #2000 - OTHER COSTS: | D15: =C15/$C$37 -> #DIV/0! | F15: =E15/$E$37 -> #DIV/0! | G15: =E15-C15 -> 0 | H15: =G15/C15 -> #DIV/0!
A16: #2000 - OTHER COSTS: | D16: =C16/$C$37 -> #DIV/0! | F16: =E16/$E$37 -> #DIV/0! | G16: =E16-C16 -> 0 | H16: =G16/C16 -> #DIV/0!
A17: #2000 - OTHER COSTS: | D17: =C17/$C$37 -> #DIV/0! | F17: =E17/$E$37 -> #DIV/0! | G17: =E17-C17 -> 0 | H17: =G17/C17 -> #DIV/0!
A18: #2000 - OTHER COSTS: | D18: =C18/$C$37 -> #DIV/0! | F18: =E18/$E$37 -> #DIV/0! | G18: =E18-C18 -> 0 | H18: =G18/C18 -> #DIV/0!
A19: #2000 - OTHER COSTS: | D19: =C19/$C$37 -> #DIV/0! | F19: =E19/$E$37 -> #DIV/0! | G19: =E19-C19 -> 0 | H19: =G19/C19 -> #DIV/0!
A20: #2000 - OTHER COSTS: | D20: =C20/$C$37 -> #DIV/0! | F20: =E20/$E$37 -> #DIV/0! | G20: =E20-C20 -> 0 | H20: =G20/C20 -> #DIV/0!
A21: #2000 - OTHER COSTS: | D21: =C21/$C$37 -> #DIV/0! | F21: =E21/$E$37 -> #DIV/0! | G21: =E21-C21 -> 0 | H21: =G21/C21 -> #DIV/0!
A22: #2000 - OTHER COSTS: | D22: =C22/$C$37 -> #DIV/0! | F22: =E22/$E$37 -> #DIV/0! | G22: =E22-C22 -> 0 | H22: =G22/C22 -> #DIV/0!
A23: #2000 - OTHER COSTS: | D23: =C23/$C$37 -> #DIV/0! | F23: =E23/$E$37 -> #DIV/0! | G23: =E23-C23 -> 0 | H23: =G23/C23 -> #DIV/0!
A24: #2100 Participant-Related Costs | D24: =C24/$C$37 -> #DIV/0! | F24: =E24/$E$37 -> #DIV/0! | G24: =E24-C24 -> 0 | H24: =G24/C24 -> #DIV/0!
A25: #2100 Participant-Related Costs | C25: 0 | D25: =C25/$C$37 -> #DIV/0! | E25: 0 | F25: =E25/$E$37 -> #DIV/0! | G25: =E25-C25 -> 0 | H25: =G25/C25 -> #DIV/0!
A26: #2100 Participant-Related Costs | C26: 0 | D26: =C26/$C$37 -> #DIV/0! | E26: 0 | F26: =E26/$E$37 -> #DIV/0! | G26: =E26-C26 -> 0 | H26: =G26/C26 -> #DIV/0!
A27: #2100 Participant-Related Costs | C27: 0 | D27: =C27/$C$37 -> #DIV/0! | E27: 0 | F27: =E27/$E$37 -> #DIV/0! | G27: =E27-C27 -> 0 | H27: =G27/C27 -> #DIV/0!
A28: #2100 Participant-Related Costs | C28: 0 | D28: =C28/$C$37 -> #DIV/0! | E28: 0 | F28: =E28/$E$37 -> #DIV/0! | G28: =E28-C28 -> 0 | H28: =G28/C28 -> #DIV/0!
A29: #2200 Subcontractor Costs | D29: =C29/$C$37 -> #DIV/0! | F29: =E29/$E$37 -> #DIV/0! | G29: =E29-C29 -> 0 | H29: =G29/C29 -> #DIV/0!
A30: #2200 Subcontractor Costs | D30: =C30/$C$37 -> #DIV/0! | F30: =E30/$E$37 -> #DIV/0! | G30: =E30-C30 -> 0 | H30: =G30/C30 -> #DIV/0!
A31: #2200 Subcontractor Costs | D31: =C31/$C$37 -> #DIV/0! | F31: =E31/$E$37 -> #DIV/0! | G31: =E31-C31 -> 0 | H31: =G31/C31 -> #DIV/0!
A32: #3000 Furniture and Equipment | D32: =C32/$C$37 -> #DIV/0! | F32: =E32/$E$37 -> #DIV/0! | G32: =E32-C32 -> 0 | H32: =G32/C32 -> #DIV/0!
A33: #3000 Furniture and Equipment | C33: 0 | D33: =C33/$C$37 -> #DIV/0! | E33: 0 | F33: =E33/$E$37 -> #DIV/0! | G33: =E33-C33 -> 0 | H33: =G33/C33 -> #DIV/0!
A34: #3000 Furniture and Equipment | C34: 0 | D34: =C34/$C$37 -> #DIV/0! | E34: 0 | F34: =E34/$E$37 -> #DIV/0! | G34: =E34-C34 -> 0 | H34: =G34/C34 -> #DIV/0!
A35: #4000 Indirect Costs | D35: =C35/$C$37 -> #DIV/0! | F35: =E35/$E$37 -> #DIV/0! | G35: =E35-C35 -> 0 | H35: =G35/C35 -> #DIV/0!
A36: #5000 Capital Costs | D36: =C36/$C$37 -> #DIV/0! | F36: =E36/$E$37 -> #DIV/0! | G36: =E36-C36 -> 0 | H36: =G36/C36 -> #DIV/0!
A37: Total Contract Award | C37: =SUM(C10:C36) -> 0 | E37: =SUM(E10:E36) -> 0 | G37: =E37-C37 -> 0 | H37: =G37/C37 -> #DIV/0!
A38: ='Budget Summary'!$A$33 -> BUDGET - STANDARD, Budget Summary (Rev. Jun 2023), City of Los Angeles, Economic and Workforce Development Department
